BEGIN:VCALENDAR
CALSCALE:GREGORIAN
PRODID:iCalendar-Ruby
VERSION:2.0
BEGIN:VEVENT
DTEND:20260421T171500
DTSTAMP:20260421T115500
DTSTART:20260421T161500
CLASS:PUBLIC
LOCATION:Lecture Hall A - Physics Department - Freie Universität Berlin\n (
 Arnimallee 14\, 14195 Berlin-Dahlem)
SEQUENCE:0
SUMMARY:TRR227 &amp;amp\; Dahlem Center Colloquium - Markus Weißenhofer (Uppsal
 a University\, Sweden)
UID:158148723@/www.trr227.de
URL:https://www.trr227.de/dates/260421_Colloquium_TRR227-DahlemCenter.html
END:VEVENT
END:VCALENDAR
